BEGIN:VCALENDAR
VERSION:2.0
PRODID:-//vcofc.org - ECPv6.15.20//NONSGML v1.0//EN
CALSCALE:GREGORIAN
METHOD:PUBLISH
X-WR-CALNAME:vcofc.org
X-ORIGINAL-URL:https://vcofc.org
X-WR-CALDESC:Events for vcofc.org
REFRESH-INTERVAL;VALUE=DURATION:PT1H
X-Robots-Tag:noindex
X-PUBLISHED-TTL:PT1H
BEGIN:VTIMEZONE
TZID:Asia/Karachi
BEGIN:STANDARD
TZOFFSETFROM:+0500
TZOFFSETTO:+0500
TZNAME:PKT
DTSTART:20250101T000000
END:STANDARD
END:VTIMEZONE
BEGIN:VEVENT
DTSTART;TZID=Asia/Karachi:20260329T180000
DTEND;TZID=Asia/Karachi:20260329T190000
DTSTAMP:20260420T110516
CREATED:20260306T152534Z
LAST-MODIFIED:20260306T152534Z
UID:10000036-1774807200-1774810800@vcofc.org
SUMMARY:Area-wide Singing
DESCRIPTION:There will be no 1PM service at Versailles this Sunday.  Singing begins at 6PM.
URL:https://vcofc.org/event/area-wide-singing-2/
LOCATION:Versailles Church of Christ\, 108 Murray Street\, Versailles\, KY\, 40383\, United States
END:VEVENT
BEGIN:VEVENT
DTSTART;TZID=Asia/Karachi:20260405T113000
DTEND;TZID=Asia/Karachi:20260405T130000
DTSTAMP:20260420T110516
CREATED:20260330T141211Z
LAST-MODIFIED:20260330T141349Z
UID:10000038-1775388600-1775394000@vcofc.org
SUMMARY:Easter Egg Hunt
DESCRIPTION:Easter Egg Hunt after morning worship ends.
URL:https://vcofc.org/event/eaaster-egg-hunt/
LOCATION:Versailles Church of Christ\, 108 Murray Street\, Versailles\, KY\, 40383\, United States
ATTACH;FMTTYPE=image/jpeg:https://vcofc.org/wp-content/uploads/2026/03/easter-egg-hunt.jpeg
END:VEVENT
BEGIN:VEVENT
DTSTART;TZID=Asia/Karachi:20260411T140000
DTEND;TZID=Asia/Karachi:20260411T150000
DTSTAMP:20260420T110516
CREATED:20260330T141516Z
LAST-MODIFIED:20260330T141633Z
UID:10000039-1775916000-1775919600@vcofc.org
SUMMARY:Memorial Service for Tom
DESCRIPTION:Stay afterwards for food and fellowship.
URL:https://vcofc.org/event/1176/
LOCATION:Versailles Church of Christ\, 108 Murray Street\, Versailles\, KY\, 40383\, United States
END:VEVENT
BEGIN:VEVENT
DTSTART;TZID=Asia/Karachi:20260412T113000
DTEND;TZID=Asia/Karachi:20260412T130000
DTSTAMP:20260420T110516
CREATED:20260109T154152Z
LAST-MODIFIED:20260330T140657Z
UID:10000031-1775993400-1775998800@vcofc.org
SUMMARY:Potluck Luncheon
DESCRIPTION:  \n  \nThis is a communal meal to which church members bring food to share with everyone!  Please stay after morning worship and eat with us. \nThere will be a singing service after this meal at 1PM.
URL:https://vcofc.org/event/potluck-luncheon-2-4/
LOCATION:Versailles Church of Christ\, 108 Murray Street\, Versailles\, KY\, 40383\, United States
END:VEVENT
BEGIN:VEVENT
DTSTART;TZID=Asia/Karachi:20260413T130000
DTEND;TZID=Asia/Karachi:20260413T170000
DTSTAMP:20260420T110516
CREATED:20260109T154310Z
LAST-MODIFIED:20260330T141413Z
UID:10000024-1776085200-1776099600@vcofc.org
SUMMARY:Community Dinner
DESCRIPTION:Please let Derrick know if you can help with prepping and preparing the dinners. And see Frank to help with delivering. There’s always room for one more to help!!
URL:https://vcofc.org/event/community-dinner-2/
LOCATION:First Christian Church\, First Christian Church\, 160 Lexington St\, Versailles\, 40383\, United States
END:VEVENT
BEGIN:VEVENT
DTSTART;TZID=Asia/Karachi:20260423T180000
DTEND;TZID=Asia/Karachi:20260423T200000
DTSTAMP:20260420T110516
CREATED:20260306T202519Z
LAST-MODIFIED:20260402T123539Z
UID:10000037-1776967200-1776974400@vcofc.org
SUMMARY:1711 Meeting
DESCRIPTION:Lesson 4
URL:https://vcofc.org/event/1711-meeting-2/
LOCATION:KY
END:VEVENT
BEGIN:VEVENT
DTSTART;VALUE=DATE:20260821
DTEND;VALUE=DATE:20260824
DTSTAMP:20260420T110516
CREATED:20260121T163813Z
LAST-MODIFIED:20260319T200700Z
UID:10000034-1787270400-1787529599@vcofc.org
SUMMARY:Digital Parenting Workshop
DESCRIPTION:Another event to be mindful of is August 21-23. We have invited Chad Landman up. Chad works with the Greymere congregation in Columbia\, Tennessee and puts on a Digital Parenting Workshop. It’s very important that parents\, grandparents\, guardians\, and adults stay involved and informed on their kids’ interaction with technology. This workshop will help provide information and tools for parents to use in keeping their kids safe and able to use technology in this fast growing environment. More details will come as the date draws near.
URL:https://vcofc.org/event/digital-parenting-workshop-3/
LOCATION:KY
END:VEVENT
END:VCALENDAR