BEGIN:VCALENDAR
VERSION:2.0
PRODID:-//vcofc.org - ECPv6.15.20//NONSGML v1.0//EN
CALSCALE:GREGORIAN
METHOD:PUBLISH
X-WR-CALNAME:vcofc.org
X-ORIGINAL-URL:https://vcofc.org
X-WR-CALDESC:Events for vcofc.org
REFRESH-INTERVAL;VALUE=DURATION:PT1H
X-Robots-Tag:noindex
X-PUBLISHED-TTL:PT1H
BEGIN:VTIMEZONE
TZID:Asia/Karachi
BEGIN:STANDARD
TZOFFSETFROM:+0500
TZOFFSETTO:+0500
TZNAME:PKT
DTSTART:20250101T000000
END:STANDARD
END:VTIMEZONE
BEGIN:VEVENT
DTSTART;TZID=Asia/Karachi:20260405T113000
DTEND;TZID=Asia/Karachi:20260405T130000
DTSTAMP:20260420T094125
CREATED:20260330T141211Z
LAST-MODIFIED:20260330T141349Z
UID:10000038-1775388600-1775394000@vcofc.org
SUMMARY:Easter Egg Hunt
DESCRIPTION:Easter Egg Hunt after morning worship ends.
URL:https://vcofc.org/event/eaaster-egg-hunt/
LOCATION:Versailles Church of Christ\, 108 Murray Street\, Versailles\, KY\, 40383\, United States
ATTACH;FMTTYPE=image/jpeg:https://vcofc.org/wp-content/uploads/2026/03/easter-egg-hunt.jpeg
END:VEVENT
END:VCALENDAR