BEGIN:VCALENDAR
VERSION:2.0
PRODID:-//vcofc.org - ECPv6.15.20//NONSGML v1.0//EN
CALSCALE:GREGORIAN
METHOD:PUBLISH
X-WR-CALNAME:vcofc.org
X-ORIGINAL-URL:https://vcofc.org
X-WR-CALDESC:Events for vcofc.org
REFRESH-INTERVAL;VALUE=DURATION:PT1H
X-Robots-Tag:noindex
X-PUBLISHED-TTL:PT1H
BEGIN:VTIMEZONE
TZID:Asia/Karachi
BEGIN:STANDARD
TZOFFSETFROM:+0500
TZOFFSETTO:+0500
TZNAME:PKT
DTSTART:20250101T000000
END:STANDARD
END:VTIMEZONE
BEGIN:VEVENT
DTSTART;TZID=Asia/Karachi:20260215T113000
DTEND;TZID=Asia/Karachi:20260215T130000
DTSTAMP:20260420T120647
CREATED:20260121T212934Z
LAST-MODIFIED:20260121T212934Z
UID:10000035-1771155000-1771160400@vcofc.org
SUMMARY:Potluck Luncheon
DESCRIPTION:  \n  \nThis is a communal meal to which church members bring food to share with everyone!  Please stay after morning worship and eat with us. \nThere will be a singing service after this meal at 1PM.
URL:https://vcofc.org/event/potluck-luncheon-2-2-3/
LOCATION:Versailles Church of Christ\, 108 Murray Street\, Versailles\, KY\, 40383\, United States
END:VEVENT
END:VCALENDAR